BEGIN:VCALENDAR
VERSION:2.0
PRODID:-//ChamberMaster//Event Calendar 2.0//EN
METHOD:PUBLISH
X-PUBLISHED-TTL:P3D
REFRESH-INTERVAL:P3D
CALSCALE:GREGORIAN
BEGIN:VEVENT
DTSTART:20190802T210000Z
DTEND:20190803T060000Z
X-MICROSOFT-CDO-ALLDAYEVENT:FALSE
SUMMARY:Watershed Festival at The Gorge
DESCRIPTION:Watershed Festival is happening at The Gorge on August 2nd. Contact VIPSeattle@LiveNation.com or call 206-802-3123 for information on this event.
X-ALT-DESC;FMTTYPE=text/html:<span style="font-family:arial\,sans-serif\; font-size:10pt">Watershed Festival is happening at The Gorge on August 2nd. Contact <a href="mailto:VIPSeattle@LiveNation.com">VIPSeattle@LiveNation.com</a> or call 206-802-3123 for information on this event.</span>
LOCATION:The Gorge Amphitheatre
UID:e.253.12066
SEQUENCE:3
DTSTAMP:20260423T222245Z
URL:https://business.spokanevalleychamber.org/events/details/watershed-festival-at-the-gorge-12066
END:VEVENT

END:VCALENDAR
