BEGIN:VCALENDAR
VERSION:2.0
PRODID:-//ChamberMaster//Event Calendar 2.0//EN
METHOD:PUBLISH
X-PUBLISHED-TTL:P3D
REFRESH-INTERVAL:P3D
CALSCALE:GREGORIAN
BEGIN:VEVENT
DTSTART:20240213T233000Z
DTEND:20240214T030000Z
X-MICROSOFT-CDO-ALLDAYEVENT:FALSE
SUMMARY:Video Boot Camp
DESCRIPTION:Create a video from start to finish with fellow teens during this 2-day video boot camp. Learn the basics of scripting\, planning\, shooting\, and editing video. Get hands-on training for using our recording and lighting equipment and instruction in using post-production editing software.  \n\nRegistration is required.
X-ALT-DESC;FMTTYPE=text/html:<span style="font-family:arial\,helvetica\,verdana\; font-size:14px">Create a video from start to finish with fellow teens during this 2-day video boot camp. Learn the basics of scripting\, planning\, shooting\, and editing video. Get hands-on training for using our recording and lighting equipment and instruction in using post-production editing software.&nbsp\;&nbsp\;</span><br />\n<span style="font-family:arial\,helvetica\,verdana\; font-size:14px">Registration is required.</span>
LOCATION:Spokane Valley Library. 22 N Herald Rd
UID:e.253.26841
SEQUENCE:3
DTSTAMP:20260421T061037Z
URL:https://business.spokanevalleychamber.org/events/details/video-boot-camp-02-13-2024-26841
END:VEVENT

END:VCALENDAR
