BEGIN:VCALENDAR
VERSION:2.0
PRODID:-//ChamberMaster//Event Calendar 2.0//EN
METHOD:PUBLISH
X-PUBLISHED-TTL:P3D
REFRESH-INTERVAL:P3D
CALSCALE:GREGORIAN
BEGIN:VEVENT
DTSTART:20171026T190000Z
DTEND:20171026T203000Z
X-MICROSOFT-CDO-ALLDAYEVENT:FALSE
SUMMARY:Transportation Program
DESCRIPTION:Long-range Transportation Plan\n\nPresented by: Eve Nelson\, Senior Transportation Planner for the Spokane Regional Transportation Council.\n\n\n\nClick here to see the draft plan
X-ALT-DESC;FMTTYPE=text/html:<div><br />\n<strong>Long-range Transportation Plan</strong><br />\nPresented by: Eve Nelson\, Senior&nbsp\;Transportation Planner for the Spokane Regional Transportation Council.<br />\n<br />\n<a href="https://chambermaster.blob.core.windows.net/userfiles/UserFiles/chambers/253/File/H2040Flier-DigitalCopy.pdf" target="_blank">Click here to see the draft plan</a></div>\n
LOCATION:Longhorn Barbecue 2315 N Argonne
UID:e.253.7487
SEQUENCE:3
DTSTAMP:20260419T223206Z
URL:https://business.spokanevalleychamber.org/events/details/transportation-program-7487
END:VEVENT

END:VCALENDAR
