BEGIN:VCALENDAR
VERSION:2.0
PRODID:-//ChamberMaster//Event Calendar 2.0//EN
METHOD:PUBLISH
X-PUBLISHED-TTL:P3D
REFRESH-INTERVAL:P3D
CALSCALE:GREGORIAN
BEGIN:VEVENT
DTSTART:20191011T160000Z
DTEND:20191011T220000Z
X-MICROSOFT-CDO-ALLDAYEVENT:FALSE
SUMMARY:The Valley Christian School Panther Project Service Project & Fundraiser
DESCRIPTION:Dear Friend of Valley Christian School\,\n\n \n\nWe are excited to share that on Friday\, October 11th\, 2019\, Valley Christian School families\, students\, and staff will participate in the Panther Project for 2019. The Panther Project is an all-school community service project and one of our primary fundraisers. Its mission is to be a blessing to others through service and represents the belief that we can all make a difference in our communities.\n\n\n\nLast year we served along the Centennial Trail\, the Natural Area at Mirabeau\, CenterPlace\, Apple- way Trailway\, local community gardens\, Valley Mission Park\, Miryam's House\, Family Promise\, Transitional Living Center & GraceSon Housing. During this project\, our 425+ families\, students\, and staff will commit over 1\,800+ service hours.\n\n\n\nWe are hoping you will support us as we serve our community and truly make a difference.\n\n\n\nFunds raised by the Panther Project will provide supplemental support for the normal expenditures of the school and will enhance the programs available to our students. Striving to keep "serving others" as the core motivation for the Panther Project\, 10% of all funds raised will be donated to another non-profit organization.\n\n\n\nCorporate sponsorship is critical to the Panther Project's success. As a corporate sponsor\, you will have advertising opportunities such as: The Panther Project banner (displayed on campus for 1 full year)\, t-shirts\, our social media\, and our website. More information about corporate sponsorship is in the enclosed flyer.\n\n\n\nQuestions can be directed to Justin Barrs at jbarrs@vcsc.org or 909-367-6496. All logos or company names (depending on sponsorship level) for the banner and t-shirts MUST be emailed to jbarrs@vcsc.org. Deadline for placing your company name on the banner and t-shirt is Tuesday\, September 24\, 2019. All contributions are tax-deductible!\n\n\n\nPlease click the link below for a PDF of a corporate sponsor form:\n\nhttps://valleychristianschoolorg-my.sharepoint.com/:b:/g/personal/jbarrs_vcsc_org/EeMFfZRO-uVHsfn9VOYUsA8BSHNuIO76Unqs7DdGxANN6g?e=eMpe3h\n\n\n\nPlease send contributions via check or you may donate online:\nBy check:\n\nValley Christian School\n\n10212 E 9th Avenue\n\nSpokane Valley\, WA 99216\n\n\n\nDonate online at:\n\nhttps://valleychristianschool.givingfuel.com/panther-project\n\n*Memo: Please type your company's name\n\n \n\nThank you for considering supporting Valley Christian School's Panther Project 2019!\n\n \n\nSincerely\,\n\nVCS Staff
X-ALT-DESC;FMTTYPE=text/html:<p><strong>Dear Friend of Valley Christian School\,</strong><br />\n&nbsp\;<br />\nWe are excited to share that on Friday\, October 11<sup>th</sup>\, 2019\, Valley Christian School families\, students\, and staff will participate in the Panther Project for 2019. The Panther Project is an all-school community service project and one of our primary fundraisers. Its mission is to be a blessing to others&nbsp\;through service and represents the belief that we can all make a difference in our communities.<br />\n<br />\nLast year we served along the Centennial Trail\, the Natural Area at Mirabeau\, CenterPlace\, Apple- way Trailway\, local community gardens\, Valley Mission Park\, Miryam&rsquo\;s House\, Family Promise\, Transitional Living Center &amp\; GraceSon Housing. During this project\, our 425+ families\, students\, and staff will commit over 1\,800+ service hours.<br />\n<br />\nWe are hoping you will support us as we serve our community and truly make a difference.<br />\n<br />\nFunds raised by the Panther Project will provide supplemental support for the normal expenditures of the school and will enhance the programs available to our students. Striving to keep &ldquo\;serving others&rdquo\; as the core motivation for the Panther Project\, 10% of all funds raised will be donated to another non-profit organization.<br />\n<br />\nCorporate sponsorship is critical to the Panther Project&rsquo\;s success. As a corporate sponsor\, you will have advertising opportunities such as: The Panther Project banner (displayed on campus for 1 full year)\, t-shirts\, our social media\, and our website. More information about corporate sponsorship is in the enclosed flyer.<br />\n<br />\nQuestions can be directed to Justin Barrs at&nbsp\;<a href="mailto:jbarrs@vcsc.org" style="text-size-adjust: 100%\; color: rgb(0\, 124\, 137)\;"><span style="color:#0000FF">jbarrs@vcsc.org</span></a>&nbsp\;or 909-367-6496. All logos or company names (depending on sponsorship level) for the banner and t-shirts MUST be emailed to&nbsp\;<a href="mailto:jbarrs@vcsc.org" style="text-size-adjust: 100%\; color: rgb(0\, 124\, 137)\;"><span style="color:#0000FF">jbarrs@vcsc.org</span></a>.&nbsp\;<em>Deadline for placing your company name on the banner and t-shirt is Tuesday\, September 24\, 2019. All contributions are tax-deductible!</em><br />\n<br />\n<strong>Please click the link below for a PDF of a corporate sponsor form:</strong><br />\n<a href="https://valleychristianschoolorg-my.sharepoint.com/:b:/g/personal/jbarrs_vcsc_org/EeMFfZRO-uVHsfn9VOYUsA8BSHNuIO76Unqs7DdGxANN6g?e=eMpe3h"><span style="color:#0000FF">https://valleychristianschoolorg-my.sharepoint.com/:b:/g/personal/jbarrs_vcsc_org/EeMFfZRO-uVHsfn9VOYUsA8BSHNuIO76Unqs7DdGxANN6g?e=eMpe3h</span></a><br />\n<br />\n<em>Please send contributions via check or you may donate online:</em></p>\n<strong>By check:</strong><br />\n<span style="color:rgb(117\, 117\, 117)\; font-family:helvetica\; font-size:16px">Valley Christian School</span><br />\n<span style="color:rgb(117\, 117\, 117)\; font-family:helvetica\; font-size:16px">10212 E 9th Avenue</span><br />\n<span style="color:rgb(117\, 117\, 117)\; font-family:helvetica\; font-size:16px">Spokane Valley\, WA 99216</span><br />\n<br />\n<strong>Donate online at:</strong><br />\n<a href="https://valleychristianschool.givingfuel.com/panther-project" style="text-size-adjust: 100%\; color: rgb(0\, 124\, 137)\; font-family: Helvetica\; font-size: 16px\;"><span style="color:#0000FF">https://valleychristianschool.givingfuel.com/panther-project</span></a><br />\n<strong>*Memo:</strong><span style="color:rgb(117\, 117\, 117)\; font-family:helvetica\; font-size:16px">&nbsp\;Please type your company&#39\;s name</span><br />\n<span style="color:rgb(117\, 117\, 117)\; font-family:helvetica\; font-size:16px">&nbsp\;</span>\n\n<p>Thank you for considering supporting Valley Christian School&rsquo\;s Panther Project 2019!<br />\n&nbsp\;<br />\n<strong>Sincerely\,</strong><br />\n<strong>VCS Staff</strong></p>\n
LOCATION:The Greater Spokane Community
UID:e.253.12850
SEQUENCE:3
DTSTAMP:20260424T025326Z
URL:https://business.spokanevalleychamber.org/events/details/the-valley-christian-school-panther-project-service-project-fundraiser-12850
END:VEVENT

END:VCALENDAR
