BEGIN:VCALENDAR
VERSION:2.0
PRODID:-//ChamberMaster//Event Calendar 2.0//EN
METHOD:PUBLISH
X-PUBLISHED-TTL:P3D
REFRESH-INTERVAL:P3D
CALSCALE:GREGORIAN
BEGIN:VEVENT
DTSTART:20260505T140000Z
DTEND:20260506T030000Z
X-MICROSOFT-CDO-ALLDAYEVENT:FALSE
SUMMARY:Teachers Wash Free on National Teachers Day
DESCRIPTION:Metro Express Car Wash is proud to celebrate the incredible teachers in our community! As a small thank you for the hard work\, dedication\, and impact you make every day\, all teachers wash free on May 5th\, 2026. Stop by any Metro Express Car Wash location anytime between 7:00 AM and 8:00 PM to enjoy your complimentary wash on us. Thank you\, teachers\, for everything you do for our students and our community. Happy National Teachers' Day!
X-ALT-DESC;FMTTYPE=text/html:Metro Express Car Wash is proud to celebrate the incredible teachers in our community! As a small thank you for the hard work\, dedication\, and impact you make every day\, all teachers wash free on May 5th\, 2026. Stop by any Metro Express Car Wash location anytime between 7:00 AM and 8:00 PM to enjoy your complimentary wash on us. Thank you\, teachers\, for everything you do for our students and our community. Happy National Teachers&#39\; Day!
LOCATION:All Metro Express Car Wash locations
UID:e.253.30022
SEQUENCE:3
DTSTAMP:20260426T012631Z
URL:https://business.spokanevalleychamber.org/events/details/teachers-wash-free-on-national-teachers-day-30022
END:VEVENT

END:VCALENDAR
