BEGIN:VCALENDAR
VERSION:2.0
PRODID:-//ChamberMaster//Event Calendar 2.0//EN
METHOD:PUBLISH
X-PUBLISHED-TTL:P3D
REFRESH-INTERVAL:P3D
CALSCALE:GREGORIAN
BEGIN:VEVENT
DTSTART:20240909T230000Z
DTEND:20240910T003000Z
X-MICROSOFT-CDO-ALLDAYEVENT:FALSE
SUMMARY:Ribbon Cutting at Northwest Orthopaedic Speacialists
DESCRIPTION:Northwest Orthopedic Specialists is excited to host a ribbon-cutting ceremony on Monday\, September 9th\, to mark the opening of their new Ambulatory Surgery Center in Spokane Valley. This state-of-the-art facility\, located at 12410 East Sinto Avenue\, Suite LL101\, will provide advanced orthopedic and interventional pain services to the Spokane Valley community. The event will celebrate this expansion and showcase the center's cutting-edge techniques\, including WALANT hand and wrist procedures offered by Dr. Anthony Sestero and minimally invasive pain management procedures offered by Dr. Ryan Burklund.
X-ALT-DESC;FMTTYPE=text/html:<span style="color: rgb(58\, 58\, 58)\;">Northwest Orthopedic Specialists is excited to host a ribbon-cutting ceremony on Monday\, September 9th\, to mark the opening of their new Ambulatory Surgery Center in Spokane Valley. This state-of-the-art facility\, located at 12410 East Sinto Avenue\, Suite LL101\, will provide advanced orthopedic and interventional pain services to the Spokane Valley community. The event will celebrate this expansion and showcase the center&rsquo\;s cutting-edge techniques\, including WALANT hand and wrist procedures offered by Dr. Anthony Sestero and minimally invasive pain management procedures offered by Dr. Ryan Burklund.</span>
LOCATION:12410 E Sinto Ave STE LL101 Spokane Valley\, WA 99216
UID:e.253.28071
SEQUENCE:3
DTSTAMP:20260424T220105Z
URL:https://business.spokanevalleychamber.org/events/details/ribbon-cutting-at-northwest-orthopaedic-speacialists-28071
END:VEVENT

END:VCALENDAR
