BEGIN:VCALENDAR
VERSION:2.0
PRODID:-//ChamberMaster//Event Calendar 2.0//EN
METHOD:PUBLISH
X-PUBLISHED-TTL:P3D
REFRESH-INTERVAL:P3D
CALSCALE:GREGORIAN
BEGIN:VEVENT
DTSTART:20260505T190000Z
DTEND:20260505T200000Z
X-MICROSOFT-CDO-ALLDAYEVENT:FALSE
SUMMARY:Politics & Your Portfolio with WestPac Wealth Partners
DESCRIPTION:valuable for Chamber members who want clarity\, not noise\, during a mid-term election year. WestPac is hosting a timely market briefing titled "Politics & Your Portfolio: How the Midterms May Affect Your Dollars." It's designed to help leaders\, business owners\, and investors make informed financial decisions despite the constant political headlines. What makes this session particularly useful for business owners is its focus on real historical data\, not speculation. The presentation includes a deep dive into midterm election market performance going back to 1950\, an analysis of how markets have behaved under different political parties\, and a year-by-year look at market returns from 1973 through 2024. These insights can help members better understand long-term patterns and avoid being swayed by short-term political noise. There will also be a live Q&A with one of our thought leaders\, Joseph DeLisi\, CFP \, ChFC \, giving members the chance to ask questions specific to their business or financial strategy.
X-ALT-DESC;FMTTYPE=text/html:valuable for Chamber members who want clarity\, not noise\, during a mid-term election year. WestPac is hosting a timely market briefing titled &ldquo\;Politics &amp\; Your Portfolio: How the Midterms May Affect Your Dollars.&rdquo\; It&rsquo\;s designed to help leaders\, business owners\, and investors make informed financial decisions despite the constant political headlines. What makes this session particularly useful for business owners is its focus on real historical data\, not speculation. The presentation includes a deep dive into midterm election market performance going back to 1950\, an analysis of how markets have behaved under different political parties\, and a year-by-year look at market returns from 1973 through 2024. These insights can help members better understand long-term patterns and avoid being swayed by short-term political noise. There will also be a live Q&amp\;A with one of our thought leaders\, Joseph DeLisi\, CFP&reg\;\, ChFC&reg\;\, giving members the chance to ask questions specific to their business or financial strategy.
LOCATION:https://us02web.zoom.us/webinar/register/WN_L3VpjO1xQza2QxoIT3iMug#/registration
UID:e.253.30101
SEQUENCE:3
DTSTAMP:20260422T081427Z
URL:https://business.spokanevalleychamber.org/events/details/politics-your-portfolio-with-westpac-wealth-partners-30101
END:VEVENT

END:VCALENDAR
