BEGIN:VCALENDAR
VERSION:2.0
PRODID:-//ChamberMaster//Event Calendar 2.0//EN
METHOD:PUBLISH
X-PUBLISHED-TTL:P3D
REFRESH-INTERVAL:P3D
CALSCALE:GREGORIAN
BEGIN:VEVENT
DTSTART:20260519T163000Z
DTEND:20260519T180000Z
X-MICROSOFT-CDO-ALLDAYEVENT:FALSE
SUMMARY:New Member Orientation Tuesday\, May 19\, 2026
DESCRIPTION:Join us for a New Member Orientation on Tuesday\, May 19th from 9:30 a.m. - 11:00 a.m.  \n\nWe have a great agenda touching on all aspects of your Chamber Membership\; you will not want to miss!
X-ALT-DESC;FMTTYPE=text/html:Join us for a New Member Orientation on Tuesday\, May 19th from 9:30 a.m. - 11:00 a.m.&nbsp\;&nbsp\;<br />\nWe have a great agenda touching on all aspects of your Chamber Membership\; you will not want to miss!<br />\n&nbsp\;
LOCATION:Greater Spokane Valley Chamber of Commerce 10808 E Sprague Ave Spokane\, WA 99206
UID:e.253.30083
SEQUENCE:3
DTSTAMP:20260421T112716Z
URL:https://business.spokanevalleychamber.org/events/details/new-member-orientation-tuesday-may-19-2026-30083
END:VEVENT

END:VCALENDAR
