BEGIN:VCALENDAR
VERSION:2.0
PRODID:-//ChamberMaster//Event Calendar 2.0//EN
METHOD:PUBLISH
X-PUBLISHED-TTL:P3D
REFRESH-INTERVAL:P3D
CALSCALE:GREGORIAN
BEGIN:VEVENT
DTSTART:20240215T210000Z
DTEND:20240216T000000Z
X-MICROSOFT-CDO-ALLDAYEVENT:FALSE
SUMMARY:Medicare One-on-One Counseling
DESCRIPTION:To schedule your one-on-one counseling appointment\, call ALTCEW at 509.625.4801.  \n\nGet free and unbiased one-on-one counseling that is specific to you and your Medicare questions\, with a trained volunteer from SHIBA (Statewide Health Insurance Benefits Advisor). The SHIBA volunteer can provide you with information about Medicare\, Medigap (Medicare Supplement) and Medicare Advantage plans\, prescription drug programs\, and low-income programs to help pay for your Medicare.\n\nSHIBA is a free\, unbiased\, and confidential counseling service of the Washington State Office of the Insurance Commissioner. SHIBA is a statewide network of trained volunteers who assist and advocate for consumers about Medicare and is sponsored locally by Aging & Long Term Care of Eastern Washington (ALTCEW).
X-ALT-DESC;FMTTYPE=text/html:<p>To schedule your one-on-one counseling appointment\, call ALTCEW at 509.625.4801. &nbsp\;</p>\n\n<p>Get free and unbiased one-on-one counseling that is specific to you and your Medicare questions\, with a trained volunteer from SHIBA (Statewide Health Insurance Benefits Advisor). The SHIBA volunteer can provide you with information about Medicare\, Medigap (Medicare Supplement) and Medicare Advantage plans\, prescription drug programs\, and low-income programs to help pay for your Medicare.</p>\n\n<p>SHIBA is a free\, unbiased\, and confidential counseling service of the Washington State Office of the Insurance Commissioner. SHIBA is a statewide network of trained volunteers who assist and advocate for consumers about Medicare and is sponsored locally by Aging &amp\; Long Term Care of Eastern Washington (ALTCEW).</p>\n
LOCATION:Spokane Valley Library. 22 N Herald Rd
UID:e.253.26843
SEQUENCE:3
DTSTAMP:20260424T034448Z
URL:https://business.spokanevalleychamber.org/events/details/medicare-one-on-one-counseling-26843
END:VEVENT

END:VCALENDAR
