BEGIN:VCALENDAR
VERSION:2.0
PRODID:-//ChamberMaster//Event Calendar 2.0//EN
METHOD:PUBLISH
X-PUBLISHED-TTL:P3D
REFRESH-INTERVAL:P3D
CALSCALE:GREGORIAN
BEGIN:VEVENT
DTSTART:20240911T010000Z
DTEND:20240911T020000Z
X-MICROSOFT-CDO-ALLDAYEVENT:FALSE
SUMMARY:Medicare: Getting Started
DESCRIPTION:Registration is required.\n\nTake the guesswork out of Medicare. This free\, unbiased class is for anyone new to Medicare and those wanting a refresher. We cover Parts A\, B\, C\, and D and go over your Medicare benefits and options\, including a comparison of Medicare Advantage plans and Medigaps. \n\nPresented by ALTCEW and SHIBA
X-ALT-DESC;FMTTYPE=text/html:<p>Registration is required.</p>\n\n<p>Take the guesswork out of Medicare. This free\, unbiased class is for anyone new to Medicare and those wanting a refresher. We cover Parts A\, B\, C\, and D and go over your Medicare benefits and options\, including a comparison of Medicare Advantage plans and Medigaps.&nbsp\;</p>\n\n<p>Presented by ALTCEW and SHIBA</p>\n
LOCATION:Spokane Valley Library. 22 N Herald Rd.
UID:e.253.28042
SEQUENCE:3
DTSTAMP:20260421T003316Z
URL:https://business.spokanevalleychamber.org/events/details/medicare-getting-started-09-10-2024-28042
END:VEVENT

END:VCALENDAR
