BEGIN:VCALENDAR
VERSION:2.0
PRODID:-//ChamberMaster//Event Calendar 2.0//EN
METHOD:PUBLISH
X-PUBLISHED-TTL:P3D
REFRESH-INTERVAL:P3D
CALSCALE:GREGORIAN
BEGIN:VEVENT
DTSTART:20210305T160000Z
DTEND:20210305T180000Z
X-MICROSOFT-CDO-ALLDAYEVENT:FALSE
SUMMARY:March for Meal Mall Crawl
DESCRIPTION:Step up to help vulnerable seniors in Spokane County at the 2021 Greater Spokane County March for Meals on March 5th.  You can sponsor or walk virtually/ in-person at the Northtown and Spokane Valley Malls from 8 a.m. to 10 a.m.  All participants are eligible for prizes\, trophies and raffles.\n\n	Each walker receives a swag bag\n	Trophies will be award for Most Participation\, Most Enthusiastic\, Most Laps and our new youth category\n	Door Prizes are given away every 10 minutes. \n	Walk in-person or virtually\n\nRegistration forms are available online at www.GSCMealsOnWheels.org or at our headquarters at 12101 E. Sprague Ave.  The event will follow all state COVID regulations including social distancing and masks if necessary. Proceeds benefit seniors in Spokane County.\n\n\n\nGSCMealsonwheels.org/Events
X-ALT-DESC;FMTTYPE=text/html:Step up to help vulnerable seniors in Spokane County at the 2021 Greater Spokane County March for Meals on March 5<sup>th</sup>.&nbsp\; You can sponsor or walk virtually/ in-person at the Northtown and Spokane Valley Malls from 8 a.m. to 10 a.m.&nbsp\; All participants are eligible for prizes\, trophies and raffles.\n<ul>\n	<li>Each walker receives a swag bag</li>\n	<li>Trophies will be award for Most Participation\, Most Enthusiastic\, Most Laps and our new youth category</li>\n	<li>Door Prizes are given away every 10 minutes.&nbsp\;</li>\n	<li>Walk in-person or virtually</li>\n</ul>\nRegistration forms are available online at www.GSCMealsOnWheels.org or at our headquarters at 12101 E. Sprague Ave. &nbsp\;The event will follow all state COVID regulations including social distancing and masks if necessary. Proceeds benefit seniors in Spokane County.<br />\n<br />\nGSCMealsonwheels.org/Events
LOCATION:Northtown and Spokane Valley Malls
UID:e.253.17988
SEQUENCE:3
DTSTAMP:20260423T134947Z
URL:https://business.spokanevalleychamber.org/events/details/march-for-meal-mall-crawl-17988
END:VEVENT

END:VCALENDAR
