BEGIN:VCALENDAR
VERSION:2.0
PRODID:-//ChamberMaster//Event Calendar 2.0//EN
METHOD:PUBLISH
X-PUBLISHED-TTL:P3D
REFRESH-INTERVAL:P3D
CALSCALE:GREGORIAN
BEGIN:VEVENT
DTSTART:20251003T000000Z
DTEND:20251003T020000Z
X-MICROSOFT-CDO-ALLDAYEVENT:FALSE
SUMMARY:Manufacturing Matters
DESCRIPTION:Celebrate the strength of manufacturing in the Greater Spokane Valley at our Manufacturing Matters Awards Night. This annual event recognizes the companies that are driving innovation\, operational excellence\, and community impact across our region.\n\n\n\nThe evening will feature the announcement of the 2025 Manufacturing Excellence Award winners in three categories:\n\n \n\n\n	\n	Operational Excellence\n	\n	\n	Innovation\n	\n	\n	Manufacturer of the Year\n	\n\n\nWe are excited to announce Jeff Utecht will be this year's keynote speaker!\n\n\n\nJeff Utecht is a global consultant and expert in generational leadership. With 20+ years of experience\, he has guided Fortune 500 companies and leaders worldwide in navigating today's multigenerational workforce. Blending entrepreneurial experience and global insights\, Jeff offers practical strategies for engaging and retaining employees across generations.\n\n\n\nDon't miss it. Join us Oct. 2 at CenterPlace to celebrate the people and businesses who keep our region moving forward.
X-ALT-DESC;FMTTYPE=text/html:<p class="p1" color:="" helvetica="" style="margin: 0px\; font-variant-numeric: normal\; font-variant-east-asian: normal\; font-variant-alternates: normal\; font-size-adjust: none\; font-kerning: auto\; font-optical-sizing: auto\; font-feature-settings: normal\; font-variation-settings: normal\; font-variant-position: normal\; font-variant-emoji: normal\; font-stretch: normal\; line-height: normal\;"><span style="font-size:16px\;"><span style="color:#000000\;"><span style="font-family:arial\;">Celebrate the strength of manufacturing in the Greater Spokane Valley at our <b>Manufacturing Matters Awards Night</b>. This annual event recognizes the companies that are driving innovation\, operational excellence\, and community impact across our region.</span></span></span></p>\n\n<p class="p1" color:="" helvetica="" style="margin: 0px\; font-variant-numeric: normal\; font-variant-east-asian: normal\; font-variant-alternates: normal\; font-size-adjust: none\; font-kerning: auto\; font-optical-sizing: auto\; font-feature-settings: normal\; font-variation-settings: normal\; font-variant-position: normal\; font-variant-emoji: normal\; font-stretch: normal\; line-height: normal\;"><br />\n<span style="font-size:16px\;"><span style="color:#000000\;"><span style="font-family:arial\;">The evening will feature the announcement of the <b>2025 Manufacturing Excellence Award winners</b> in three categories:</span></span></span><br />\n&nbsp\;</p>\n\n<ul class="ul1" style="color: rgb(0\, 0\, 0)\; font-size: medium\;">\n	<li class="li1" helvetica="" style="margin: 0px\; font-variant-numeric: normal\; font-variant-east-asian: normal\; font-variant-alternates: normal\; font-size-adjust: none\; font-kerning: auto\; font-optical-sizing: auto\; font-feature-settings: normal\; font-variation-settings: normal\; font-variant-position: normal\; font-variant-emoji: normal\; font-stretch: normal\; font-size: 13px\; line-height: normal\; font-family: ">\n	<p><span style="font-size:16px\;"><span style="color:#000000\;"><span style="font-family:arial\;"><b>Operational Excellence</b></span></span></span></p>\n	</li>\n	<li class="li1" helvetica="" style="margin: 0px\; font-variant-numeric: normal\; font-variant-east-asian: normal\; font-variant-alternates: normal\; font-size-adjust: none\; font-kerning: auto\; font-optical-sizing: auto\; font-feature-settings: normal\; font-variation-settings: normal\; font-variant-position: normal\; font-variant-emoji: normal\; font-stretch: normal\; font-size: 13px\; line-height: normal\; font-family: ">\n	<p><span style="font-size:16px\;"><span style="color:#000000\;"><span style="font-family:arial\;"><b>Innovation</b></span></span></span></p>\n	</li>\n	<li class="li1" helvetica="" style="margin: 0px\; font-variant-numeric: normal\; font-variant-east-asian: normal\; font-variant-alternates: normal\; font-size-adjust: none\; font-kerning: auto\; font-optical-sizing: auto\; font-feature-settings: normal\; font-variation-settings: normal\; font-variant-position: normal\; font-variant-emoji: normal\; font-stretch: normal\; font-size: 13px\; line-height: normal\; font-family: ">\n	<p><span style="font-size:16px\;"><span style="color:#000000\;"><span style="font-family:arial\;"><b>Manufacturer of the Year</b></span></span></span></p>\n	</li>\n</ul>\n\n<p class="p1" color:="" helvetica="" style="margin: 0px\; font-variant-numeric: normal\; font-variant-east-asian: normal\; font-variant-alternates: normal\; font-size-adjust: none\; font-kerning: auto\; font-optical-sizing: auto\; font-feature-settings: normal\; font-variation-settings: normal\; font-variant-position: normal\; font-variant-emoji: normal\; font-stretch: normal\; line-height: normal\;"><span style="color:#000000\;"><span style="font-size:16px\;"><span style="font-family:arial\;">We are excited to announce </span></span></span><span style="font-size:16px\;"><span style="font-family:arial\;"><a href="https://www.jeffutecht.com/"><span style="color:#000000\;"><strong>Jeff Utecht</strong></span></a></span></span><span style="color:#000000\;"><span style="font-size:16px\;"><span style="font-family:arial\;"> will be this year&#39\;s keynote speaker!</span><br />\n<br />\n<span style="font-family:arial\;">Jeff Utecht is a global consultant and expert in generational leadership. With 20+ years of experience\, he has guided Fortune 500 companies and leaders worldwide in navigating today&rsquo\;s multigenerational workforce. Blending entrepreneurial experience and global insights\, Jeff offers practical strategies for engaging and retaining employees across generations.</span></span></span></p>\n\n<p class="p1" color:="" helvetica="" style="margin: 0px\; font-variant-numeric: normal\; font-variant-east-asian: normal\; font-variant-alternates: normal\; font-size-adjust: none\; font-kerning: auto\; font-optical-sizing: auto\; font-feature-settings: normal\; font-variation-settings: normal\; font-variant-position: normal\; font-variant-emoji: normal\; font-stretch: normal\; line-height: normal\;"><br />\n<span style="font-size:16px\;"><span style="color:#000000\;"><span style="font-family:arial\;"><b>Don&rsquo\;t miss it.</b> Join us Oct. 2 at CenterPlace to celebrate the people and businesses who keep our region moving forward.</span></span></span></p>\n
LOCATION:CenterPlace Regional Event Center 2426 N Discovery Place Spokane Valley\, WA
UID:e.253.28317
SEQUENCE:3
DTSTAMP:20260421T221357Z
URL:https://business.spokanevalleychamber.org/events/details/manufacturing-matters-28317
END:VEVENT

END:VCALENDAR
