BEGIN:VCALENDAR
VERSION:2.0
PRODID:-//ChamberMaster//Event Calendar 2.0//EN
METHOD:PUBLISH
X-PUBLISHED-TTL:P3D
REFRESH-INTERVAL:P3D
CALSCALE:GREGORIAN
BEGIN:VEVENT
DTSTART:20231006T000000Z
DTEND:20231006T020000Z
X-MICROSOFT-CDO-ALLDAYEVENT:FALSE
SUMMARY:Manufacturing Matters
DESCRIPTION:To commemorate our region?s rich history of making quality goods that fuel economic prosperity for our region\, we welcome you to the Manufacturing Matters Dinner. This year we will also be the awarding of our Spokane Regional Manufacturing Excellence Awards.\n \nThe evening begins with a networking reception\, followed by a gourmet meal and program.
X-ALT-DESC;FMTTYPE=text/html:To commemorate our region?s rich history of making quality goods that fuel economic prosperity for our region\, we welcome you to the Manufacturing Matters Dinner. This year we will also be the awarding of our Spokane Regional Manufacturing Excellence Awards.\n<div>&nbsp\;</div>\nThe evening begins with a networking reception\, followed by a gourmet meal and program. &nbsp\;
LOCATION:CenterPlace Regional Event Center 2426 N Discovery Place Spokane Valley\, WA
UID:e.253.22831
SEQUENCE:3
DTSTAMP:20260420T114444Z
URL:https://business.spokanevalleychamber.org/events/details/manufacturing-matters-22831
END:VEVENT

END:VCALENDAR
