BEGIN:VCALENDAR
VERSION:2.0
PRODID:-//ChamberMaster//Event Calendar 2.0//EN
METHOD:PUBLISH
X-PUBLISHED-TTL:P3D
REFRESH-INTERVAL:P3D
CALSCALE:GREGORIAN
BEGIN:VEVENT
DTSTART:20171016T233000Z
DTEND:20171017T010000Z
X-MICROSOFT-CDO-ALLDAYEVENT:FALSE
SUMMARY:Liberty Lake Candidate Forum
DESCRIPTION:Liberty Lake Candidate Forum\n\n\n\nThe public is invited to attend this forum to learn the candidates' take on current issues and opportunities in our community.\n\n\n\nFeatured Candidates:  \n\nCity Council Pos. 4\n\nOdin Langford and Jeanette Nall\n\nCity Council Pos. 6\n\nMike Kennedy\n\n\n\nPlease RSVP at the green 'Register Now' button above.\n\n\n\nIf you are a non-member\, you will need to click on the link on the right side of the window that pops up.
X-ALT-DESC;FMTTYPE=text/html:Liberty Lake Candidate Forum<br />\n<br />\nThe public is invited to attend this forum to learn the candidates&#39\; take on current issues and opportunities in our community.<br />\n<br />\n<strong>Featured Candidates: &nbsp\;</strong><br />\n<em>City Council Pos. 4</em><br />\nOdin Langford and Jeanette&nbsp\;Nall<br />\n<em>City Council Pos. 6</em><br />\nMike Kennedy<br />\n<br />\nPlease RSVP at the green &#39\;Register Now&#39\; button above.<br />\n<br />\nIf you are a non-member\, you will need to click on the link on the right side of the window that pops up.
LOCATION:Liberty Lake Elementary School 23606 E Boone
UID:e.253.7461
SEQUENCE:3
DTSTAMP:20260422T185851Z
URL:https://business.spokanevalleychamber.org/events/details/liberty-lake-candidate-forum-7461
END:VEVENT

END:VCALENDAR
