BEGIN:VCALENDAR
VERSION:2.0
PRODID:-//ChamberMaster//Event Calendar 2.0//EN
METHOD:PUBLISH
X-PUBLISHED-TTL:P3D
REFRESH-INTERVAL:P3D
CALSCALE:GREGORIAN
BEGIN:VEVENT
DTSTART:20231125T220000Z
DTEND:20231125T230000Z
X-MICROSOFT-CDO-ALLDAYEVENT:FALSE
SUMMARY:LEGO Free Play
DESCRIPTION:Imagine and build with LEGO! Keep your engineering and problem-solving skills sharp using the library's abundance of LEGO bricks. All ages
X-ALT-DESC;FMTTYPE=text/html:Imagine and build with LEGO! Keep your engineering and problem-solving skills sharp using the library&rsquo\;s abundance of LEGO bricks. <strong>All ages</strong>
LOCATION:Argonne Library. 4322 N Argonne Rd\, Spokane\, WA 99212
UID:e.253.24861
SEQUENCE:3
DTSTAMP:20260425T200510Z
URL:https://business.spokanevalleychamber.org/events/details/lego-free-play-11-25-2023-24861
END:VEVENT

END:VCALENDAR
