BEGIN:VCALENDAR
VERSION:2.0
PRODID:-//ChamberMaster//Event Calendar 2.0//EN
METHOD:PUBLISH
X-PUBLISHED-TTL:P3D
REFRESH-INTERVAL:P3D
CALSCALE:GREGORIAN
BEGIN:VEVENT
DTSTART:20191231T013000Z
DTEND:20191231T023000Z
X-MICROSOFT-CDO-ALLDAYEVENT:FALSE
SUMMARY:Ideal Protein Permanent Weight Loss Seminar
DESCRIPTION:An introduction to quick\, permanent lifestyle changes for weight loss. Attendance is precursor to beginning the plan and equals $100 discount. Scientifically superior to and less expensive than programs like Weight Watchers\, Jenny Craig\, etc. Sample the foods.
X-ALT-DESC;FMTTYPE=text/html:An introduction to quick\, permanent lifestyle changes for weight loss. Attendance is precursor to beginning the plan and equals $100 discount. Scientifically superior to and less expensive than programs like Weight Watchers\, Jenny Craig\, etc. Sample the foods.
LOCATION:Greater Spokane Valley Chamber of Commerce conference room 1421 N. Meadowwood Lane Liberty Lake\, WA 99019
UID:e.253.12855
SEQUENCE:3
DTSTAMP:20260423T224058Z
URL:https://business.spokanevalleychamber.org/events/details/ideal-protein-permanent-weight-loss-seminar-12-30-2019-12855
END:VEVENT

END:VCALENDAR
