BEGIN:VCALENDAR
VERSION:2.0
PRODID:-//ChamberMaster//Event Calendar 2.0//EN
METHOD:PUBLISH
X-PUBLISHED-TTL:P3D
REFRESH-INTERVAL:P3D
CALSCALE:GREGORIAN
BEGIN:VEVENT
DTSTART:20260430T183000Z
DTEND:20260430T200000Z
X-MICROSOFT-CDO-ALLDAYEVENT:FALSE
SUMMARY:How to Maximize Your Business Value and Plan a Successful Exit
DESCRIPTION:Thinking about selling your business but not sure where to start or how to get the most value?\n\nWhether your timeline is immediate or a few years away\, the steps you take today can significantly impact your business value\, the success of a future sale\, and your financial security afterward.\n\n\n\nJoin leaders from Edward Jones and Spokane Business Attorneys for a FREE educational Lunch & Learn designed for business owners who want clarity\, strategy\, and confidence around their exit.\n\n\n\nYou Will Learn:\n\n	Maximize your business value. Understand what drives valuation\, including financials\, operations\,  and employee retention.\n	Prepare for a successful sale. Learn the key steps\, timeline\, and how to position your business 1-3 years in advance.\n	Navigate the sale process. From finding the right buyer to deal structure\, financing\, and transition planning.\n	Plan for what comes next. Explore tax strategies\, income planning\, and succession options to protect your legacy.
X-ALT-DESC;FMTTYPE=text/html:<strong>Thinking about selling your business but not sure&nbsp\;where to start or how to get the most value?</strong><br />\nWhether your timeline is immediate or a few years away\, the&nbsp\;steps you take today can significantly impact your business&nbsp\;value\, the success of a future sale\, and your financial security&nbsp\;afterward.<br />\n<br />\nJoin leaders from <strong>Edward Jones </strong>and <strong>Spokane Business&nbsp\;Attorneys</strong> for a FREE educational Lunch &amp\; Learn designed for&nbsp\;business owners who want clarity\, strategy\, and confidence&nbsp\;around their exit.<br />\n<br />\n<strong>You Will Learn:</strong>\n<ul>\n	<li>Maximize your business value. Understand what drives&nbsp\;valuation\, including financials\, operations\,&nbsp\; and employee&nbsp\;retention.</li>\n	<li>Prepare for a successful sale. Learn the key steps\, timeline\,&nbsp\;and how to position your business 1-3 years in advance.</li>\n	<li>Navigate the sale process. From finding the right buyer to&nbsp\;deal structure\, financing\, and transition planning.</li>\n	<li>Plan for what comes next. Explore tax strategies\, income&nbsp\;planning\, and succession options to protect your legacy.</li>\n</ul>\n
LOCATION:Greater Spokane Valley Chamber 10808 E. Sprague Ave. Spokane Valley\, WA 99206 Conference Room
UID:e.253.30096
SEQUENCE:3
DTSTAMP:20260421T220055Z
URL:https://business.spokanevalleychamber.org/events/details/how-to-maximize-your-business-value-and-plan-a-successful-exit-30096
END:VEVENT

END:VCALENDAR
