BEGIN:VCALENDAR
VERSION:2.0
PRODID:-//ChamberMaster//Event Calendar 2.0//EN
METHOD:PUBLISH
X-PUBLISHED-TTL:P3D
REFRESH-INTERVAL:P3D
CALSCALE:GREGORIAN
BEGIN:VEVENT
DTSTART:20190914T170000Z
DTEND:20190914T220000Z
X-MICROSOFT-CDO-ALLDAYEVENT:FALSE
SUMMARY:Home buyer class
DESCRIPTION:Buying a home can be a dream come true and an overwhelming process at the same time. In this free seminar we will explore all of the major aspects of the home-buying process in an unbiased format with Spokane instructors certified by the Washington State Housing Finance Commission. At the end of the seminar\, attendees will be issued a certification of completion\, which can be used to apply for down-payment assistance. This seminar is free and open to the public. Registration is required.
X-ALT-DESC;FMTTYPE=text/html:Buying a home can be a dream come true and an overwhelming process at the same time. In this free seminar we will explore all of the major aspects of the home-buying process in an unbiased format with Spokane instructors certified by the Washington State Housing Finance Commission. At the end of the seminar\, attendees will be issued a certification of completion\, which can be used to apply for down-payment assistance. This seminar is free and open to the public. Registration is required.
LOCATION:12709 E Mirabeau Pkwy\, Spokane Valley\, WA
UID:e.253.12847
SEQUENCE:3
DTSTAMP:20260425T142047Z
URL:https://business.spokanevalleychamber.org/events/details/home-buyer-class-09-14-2019-12847
END:VEVENT

END:VCALENDAR
