BEGIN:VCALENDAR
VERSION:2.0
PRODID:-//ChamberMaster//Event Calendar 2.0//EN
METHOD:PUBLISH
X-PUBLISHED-TTL:P3D
REFRESH-INTERVAL:P3D
CALSCALE:GREGORIAN
BEGIN:VEVENT
DTSTART:20210712T183000Z
DTEND:20210712T200000Z
X-MICROSOFT-CDO-ALLDAYEVENT:FALSE
SUMMARY:Government Action Program - 2021-7
DESCRIPTION:Government Action Committee Program \n\nCommittee Chair: Melanie Rose \n\nProgram:
X-ALT-DESC;FMTTYPE=text/html:<strong>Government Action Committee Program&nbsp\;<br />\nCommittee Chair: Melanie Rose&nbsp\;<br />\nProgram:&nbsp\;</strong><br />\n<br />\n&nbsp\;
LOCATION:Zoom: Link to be provided to registrants
UID:e.253.17727
SEQUENCE:3
DTSTAMP:20260424T125348Z
URL:https://business.spokanevalleychamber.org/events/details/government-action-program-2021-7-17727
END:VEVENT

END:VCALENDAR
