BEGIN:VCALENDAR
VERSION:2.0
PRODID:-//ChamberMaster//Event Calendar 2.0//EN
METHOD:PUBLISH
X-PUBLISHED-TTL:P3D
REFRESH-INTERVAL:P3D
CALSCALE:GREGORIAN
BEGIN:VEVENT
DTSTART:20260512T150000Z
DTEND:20260512T160000Z
X-MICROSOFT-CDO-ALLDAYEVENT:FALSE
SUMMARY:Government Action Program
DESCRIPTION:Government Action Committee Program \n\nCommittee Chair: Neil Muller\, Acrisure\n\n\n\nThe Chamber's GAC's fundamental role includes advocating the views of the business community to our elected officials on public policy and legislation on the local\, state\, and federal level that might have an impact on the business community.  The GAC is a dynamic volunteer committee of business and community leaders who meet monthly to guide the Greater Spokane Valley Chamber of Commerce in its public policy positions\, such as representing the best interests of business through candidate forums\, public policy speakers\, and providing grassroots network support.
X-ALT-DESC;FMTTYPE=text/html:<strong>Government Action Committee Program&nbsp\;<br />\nCommittee Chair: Neil Muller\, Acrisure</strong><br />\n<br />\n<span font-size:="" gotham="" medium="">The Chamber&rsquo\;s GAC&rsquo\;s fundamental role includes advocating the views of the business community to our elected officials on public policy and legislation on the local\, state\, and federal level that might have an impact on the business community.&nbsp\; The GAC is a dynamic volunteer committee of business and community leaders who meet monthly to guide the Greater Spokane Valley Chamber of Commerce in its public policy positions\, such as representing the best interests of business through candidate forums\, public policy speakers\, and providing grassroots network support.</span><br />\n<br />\n&nbsp\;
LOCATION:Greater Spokane Valley Chamber of Commerce 10808 E Sprague Ave. Spokane Valley\, WA 99206
UID:e.253.29953
SEQUENCE:3
DTSTAMP:20260424T025121Z
URL:https://business.spokanevalleychamber.org/events/details/government-action-program-05-12-2026-29953
END:VEVENT

END:VCALENDAR
