BEGIN:VCALENDAR
VERSION:2.0
PRODID:-//ChamberMaster//Event Calendar 2.0//EN
METHOD:PUBLISH
X-PUBLISHED-TTL:P3D
REFRESH-INTERVAL:P3D
CALSCALE:GREGORIAN
BEGIN:VEVENT
DTSTART:20240311T180000Z
DTEND:20240311T193000Z
X-MICROSOFT-CDO-ALLDAYEVENT:FALSE
SUMMARY:Government Action Program
DESCRIPTION:Government Action Committee Program \n\nCommittee Co-Chair: Bryan Ricker\, Schweitzer Engineering Laboratories \n\nCommittee Co-Chair: Neil Muller\, Bell-Anderson Insurance
X-ALT-DESC;FMTTYPE=text/html:<strong>Government Action Committee Program&nbsp\;<br />\nCommittee Co-Chair: Bryan Ricker\, Schweitzer Engineering Laboratories&nbsp\;<br />\nCommittee Co-Chair: Neil Muller\, Bell-Anderson Insurance</strong><br />\n<br />\n<br />\n<br />\n&nbsp\;
LOCATION:Greater Spokane Valley Chamber of Commerce 10808 E Sprague Ave. Spokane Valley\, WA 99206
UID:e.253.25373
SEQUENCE:3
DTSTAMP:20260420T153418Z
URL:https://business.spokanevalleychamber.org/events/details/government-action-program-03-11-2024-25373
END:VEVENT

END:VCALENDAR
