BEGIN:VCALENDAR
VERSION:2.0
PRODID:-//ChamberMaster//Event Calendar 2.0//EN
METHOD:PUBLISH
X-PUBLISHED-TTL:P3D
REFRESH-INTERVAL:P3D
CALSCALE:GREGORIAN
BEGIN:VEVENT
DTSTART:20250208T033000Z
DTEND:20250208T053000Z
X-MICROSOFT-CDO-ALLDAYEVENT:FALSE
SUMMARY:Gonzaga Theatre Presents: I Wish Ma Could Vote\, An Evening of Women's Suffrage Plays
DESCRIPTION:Gonzaga Theatre Presents I Wish Ma Could Vote An Evening of Women's Suffrage Plays Directed by Leslie Stamoolis In celebration of the 105th anniversary of the passing of the 19th Amendment in the United States\, join us for plays by activists\, suffragettes\, and critics of the movement both in the US and abroad\, including Charlotte Perkins Gilman\, Marie Jenney Howe\, and Gertrude Jennings. Performances Thursday\, February 6 - 7:30pm Friday\, February 7 - 7:30pm Magnuson Theatre\, College Hall Tickets: $12 More Information: https://gonzaga.edu/theatreanddance Tickets: https://bit.ly/TicketCenterTheatre
X-ALT-DESC;FMTTYPE=text/html:Gonzaga Theatre Presents I Wish Ma Could Vote An Evening of Women&#39\;s Suffrage Plays Directed by Leslie Stamoolis In celebration of the 105th anniversary of the passing of the 19th Amendment in the United States\, join us for plays by activists\, suffragettes\, and critics of the movement both in the US and abroad\, including Charlotte Perkins Gilman\, Marie Jenney Howe\, and Gertrude Jennings. Performances Thursday\, February 6 - 7:30pm Friday\, February 7 - 7:30pm Magnuson Theatre\, College Hall Tickets: $12 More Information: https://gonzaga.edu/theatreanddance Tickets: https://bit.ly/TicketCenterTheatre
LOCATION:Magnuson Theatre\, College Hall 502 E Boone Ave. Spokane\, WA 99258 (College Hall - East End)
UID:e.253.28640
SEQUENCE:3
DTSTAMP:20260422T041530Z
URL:https://business.spokanevalleychamber.org/events/details/gonzaga-theatre-presents-i-wish-ma-could-vote-an-evening-of-women-s-suffrage-plays-02-07-2025-28640
END:VEVENT

END:VCALENDAR
