BEGIN:VCALENDAR
VERSION:2.0
PRODID:-//ChamberMaster//Event Calendar 2.0//EN
METHOD:PUBLISH
X-PUBLISHED-TTL:P3D
REFRESH-INTERVAL:P3D
CALSCALE:GREGORIAN
BEGIN:VEVENT
DTSTART:20260429T233000Z
DTEND:20260430T030000Z
X-MICROSOFT-CDO-ALLDAYEVENT:FALSE
SUMMARY:FREE Business Owner/Leader 'WA Saves' Educational Summit
DESCRIPTION:What the new Washington Saves Legislative Mandate Means for Your Company\, Your Employees\, and Your Personal Wealth\n\n\n	\n	Wednesday\, April 29 | 4:30 PM   8:00 PM PT\n	\n	The Boxcar Room | 116 W Pacific Ave. #100\, Spokane\, WA 99201 \n\n\n\n	FREE admission with cocktails\, appetizers and networking with fellow business owners and professionals. \n\n\n \n\nWHY ATTEND\n\n- Understand Employer Requirements: Learn what businesses may need to comply with and what exemptions may apply.\n\n- Compare Your Options: See the differences between state programs and private employer-sponsored plans.\n\n- Reduce Taxes & Plan Costs: Explore plan design strategies that may improve tax efficiency and cost control.\n\n- Attract & Retain Key Employees: Competitive retirement benefits can strengthen recruitment and retention.\n\n- Fulfill Fiduciary Responsibilities: Understand oversight\, plan governance\, and employer obligations.\nThis is a COMPLIMENTARY event for business owners\, decision makers\, HR professionals\, and guests. \n\n\n\nCLICK THE LINK TO RSVP TODAY!  The Business Owner Retirement Readiness Summit Registration | Spokane\, WA
X-ALT-DESC;FMTTYPE=text/html:<p><span style="font-size:16px"><em><span style="color:rgb(42\, 50\, 75)">What the new Washington Saves Legislative Mandate Means for&nbsp\;</span><span style="color:rgb(42\, 50\, 75)">Your Company\, Your Employees\, and Your Personal Wealth</span></em></span></p>\n\n<ul>\n	<li>\n	<p><span style="font-size:16px">Wednesday\, April 29 | 4:30 PM &ndash\; 8:00 PM PT</span></p>\n	</li>\n	<li><span style="font-size:16px">The Boxcar Room | 116 W Pacific Ave. #100\, Spokane\, WA 99201&nbsp\;</span></li>\n</ul>\n\n<ul>\n	<li>FREE admission with cocktails\, appetizers and networking with fellow business owners and professionals.&nbsp\;</li>\n</ul>\n\n<p>&nbsp\;</p>\n\n<p><span style="color:rgb(42\, 50\, 75)\; font-family:arial\,helvetica\,sans-serif">WHY ATTEND</span></p>\n\n<p><span style="color:rgb(42\, 50\, 75)\; font-family:arial\,helvetica\,sans-serif">-&nbsp\;<span style="color:rgb(0\, 0\, 0)">Understand Employer Requirements:</span>&nbsp\;</span>Learn what businesses may need to comply with and what exemptions may apply.</p>\n\n<p><span style="color:rgb(42\, 50\, 75)\; font-family:arial\,helvetica\,sans-serif">-&nbsp\;<span style="color:rgb(0\, 0\, 0)">Compare Your Options:&nbsp\;</span></span>See the differences between state programs and private employer-sponsored plans.</p>\n\n<p><span style="color:rgb(42\, 50\, 75)\; font-family:arial\,helvetica\,sans-serif">-&nbsp\;<span style="color:rgb(0\, 0\, 0)">Reduce Taxes &amp\; Plan Costs:</span>&nbsp\;</span>Explore plan design strategies that may improve tax efficiency and cost control.</p>\n\n<p><span style="color:rgb(42\, 50\, 75)\; font-family:arial\,helvetica\,sans-serif">-&nbsp\;<span style="color:rgb(0\, 0\, 0)">Attract &amp\; Retain Key Employees:&nbsp\;</span></span>Competitive retirement benefits can strengthen recruitment and retention.</p>\n\n<p><span style="font-family: arial\, helvetica\, sans-serif\;"><font color="#2a324b">-</font><span style="color: rgb(0\, 0\, 0)\;">&nbsp\;</span><span style="color: rgb(0\, 0\, 0)\;">Fulfill Fiduciary Responsibilities:</span><font color="#2a324b">&nbsp\;</font></span>Understand oversight\, plan governance\, and employer obligations.</p>\nThis is a COMPLIMENTARY event for business owners\, decision makers\, HR professionals\, and guests.&nbsp\;<br />\n<br />\nCLICK THE LINK TO RSVP TODAY!&nbsp\;&nbsp\;<a href="https://discover.meritfa.com/business-owner-summit">The Business Owner Retirement Readiness Summit Registration | Spokane\, WA</a>
LOCATION:The Boxcar Room\, 116 W. Pacific Ave. #100\, Spokane\, WA 99201
UID:e.253.30102
SEQUENCE:3
DTSTAMP:20260423T190627Z
URL:https://business.spokanevalleychamber.org/events/details/free-business-owner-leader-wa-saves-educational-summit-30102
END:VEVENT

END:VCALENDAR
