BEGIN:VCALENDAR
VERSION:2.0
PRODID:-//ChamberMaster//Event Calendar 2.0//EN
METHOD:PUBLISH
X-PUBLISHED-TTL:P3D
REFRESH-INTERVAL:P3D
CALSCALE:GREGORIAN
BEGIN:VEVENT
DTSTART:20260616T000000Z
DTEND:20260616T020000Z
X-MICROSOFT-CDO-ALLDAYEVENT:FALSE
SUMMARY:Drive\, Design\, Deliver: A Summer Business Showcase
DESCRIPTION:Join us for a dynamic community celebration at the "Drive\, Design\, Deliver: A Summer Business Showcase" on Monday\, June 15th starting at 5pm\, hosted at the Liberty Lake Portal building. This collaborative event shines a spotlight on three local businesses: Precision Driving Academy\, Sketchbuilt Innovative Cabinets\, and Away We Go Moving. Whether you're looking to master the road\, elevate your home with bespoke craftsmanship or simplify your next big move\, this gathering offers the perfect opportunity to meet the faces behind the businesses. Come enjoy an evening of networking\, local pride\, as we celebrate growth and innovation in the heart of Liberty Lake!
X-ALT-DESC;FMTTYPE=text/html:Join us for a dynamic community celebration at the &quot\;Drive\, Design\, Deliver: A Summer Business Showcase&rdquo\; on Monday\, June 15th starting at 5pm\, hosted at the Liberty Lake Portal building. This collaborative event shines a spotlight on three local businesses: Precision Driving Academy\, Sketchbuilt Innovative Cabinets\, and Away We Go Moving. Whether you&#39\;re looking to master the road\, elevate your home with bespoke craftsmanship or simplify your next big move\, this gathering offers the perfect opportunity to meet the faces behind the businesses. Come enjoy an evening of networking\, local pride\, as we celebrate growth and innovation in the heart of Liberty Lake!
LOCATION:Liberty Lake Portal- East Entrance Greenspace 23403 E Mission Avenue Liberty Lake\, WA 99019
UID:e.253.30077
SEQUENCE:3
DTSTAMP:20260424T155513Z
URL:https://business.spokanevalleychamber.org/events/details/drive-design-deliver-a-summer-business-showcase-30077
END:VEVENT

END:VCALENDAR
