BEGIN:VCALENDAR
VERSION:2.0
PRODID:-//ChamberMaster//Event Calendar 2.0//EN
METHOD:PUBLISH
X-PUBLISHED-TTL:P3D
REFRESH-INTERVAL:P3D
CALSCALE:GREGORIAN
BEGIN:VEVENT
DTSTART;VALUE=DATE:20250319
DTEND;VALUE=DATE:20250320
TRANSP:TRANSPARENT
X-MICROSOFT-CDO-ALLDAYEVENT:TRUE
SUMMARY:Dessert Dash Donations
DESCRIPTION:Dessert Dash Donations for the 2025 Business Awards.\n\n\n\n1. Click the 'Register' button\n\n2. Log in using your Member Portal Account\, or as a guest\n\n3. Select the amount you would like to donate\n\n4. Enter in your contact information\n\n5. Click 'Next'\n\n6. Click 'Checkout' then enter your credit card information\n\n7. Thank you for Donating!
X-ALT-DESC;FMTTYPE=text/html:Dessert Dash Donations for the 2025 Business Awards.<br />\n<br />\n1. Click the &#39\;Register&#39\; button<br />\n2. Log in using your Member Portal Account\, or as a guest<br />\n3. Select the amount you would like to donate<br />\n4. Enter in your contact information<br />\n5. Click &#39\;Next&#39\;<br />\n6. Click &#39\;Checkout&#39\; then enter your credit card information<br />\n7. Thank you for Donating!&nbsp\;
LOCATION:
UID:e.253.29044
SEQUENCE:3
DTSTAMP:20260419T190922Z
URL:https://business.spokanevalleychamber.org/events/details/dessert-dash-donations-29044
END:VEVENT

END:VCALENDAR
