BEGIN:VCALENDAR
VERSION:2.0
PRODID:-//ChamberMaster//Event Calendar 2.0//EN
METHOD:PUBLISH
X-PUBLISHED-TTL:P3D
REFRESH-INTERVAL:P3D
CALSCALE:GREGORIAN
BEGIN:VEVENT
DTSTART:20250614T160000Z
DTEND:20250614T180000Z
X-MICROSOFT-CDO-ALLDAYEVENT:FALSE
SUMMARY:Dad's Day Dash 5k
DESCRIPTION:SNAP's 13th Annual Dad's Day Dash is set to return to its roots at the beautiful Manito Park in Spokane and will take place on Saturday\, June 14\, marking a shift from the traditional Sunday schedule.\n\n\n\nThis family-friendly 5K and 1-mile run/walk celebrates Father's Day while supporting Spokane Neighborhood Action Partners (SNAP). By participating\, you and your family members can enjoy the scenic park setting\, engage in a fun community event\, and contribute to funding over 30 SNAP programs that provide critical resources to individuals and families in need.\n\n\n\nWhether running\, walking\, or cheering from the sidelines\, this event offers a meaningful way to kick off Father's Day weekend.\n\n\n\nLearn more @snapwa.org/ddd5k
X-ALT-DESC;FMTTYPE=text/html:<span style="color:rgb(8\, 8\, 9)\; font-family:segoe ui historic\,segoe ui\,helvetica\,arial\,sans-serif\; font-size:15px">SNAP&rsquo\;s 13th Annual Dad&rsquo\;s Day Dash is set to return to its roots at the beautiful Manito Park in Spokane and will take place on Saturday\, June 14\, marking a shift from the traditional Sunday schedule.<br />\n<br />\nThis family-friendly 5K and 1-mile run/walk celebrates Father&rsquo\;s Day while supporting Spokane Neighborhood Action Partners (SNAP). By participating\, you and your family members can enjoy the scenic park setting\, engage in a fun community event\, and contribute to funding over 30 SNAP programs that provide critical resources to individuals and families in need.<br />\n<br />\nWhether running\, walking\, or cheering from the sidelines\, this event offers a meaningful way to kick off Father&rsquo\;s Day weekend.</span><br />\n<br />\n<span style="color:rgb(8\, 8\, 9)\; font-family:segoe ui historic\,segoe ui\,helvetica\,arial\,sans-serif\; font-size:15px">Learn more @</span><a class="x1i10hfl xjbqb8w x1ejq31n xd10rxx x1sy0etr x17r0tee x972fbf xcfux6l x1qhh985 xm0m39n x9f619 x1ypdohk xt0psk2 xe8uvvx xdj266r x11i5rnm xat24cr x1mh8g0r xexx8yu x4uap5 x18d9i69 xkhd6sd x16tdsg8 x1hl2dhg xggy1nq x1a2a7pz xkrqix3 x1sur9pj x1fey0fg x1s688f" href="https://snapwa.org/ddd5k?fbclid=IwZXh0bgNhZW0CMTAAYnJpZBExelBKZG0xZDNSNHNUUkJzegEeB9BVonF4sCUSixVrGbNBJqncI4wOkmfSK1AdbkJ_-BFZUUrWKj2Y6fKQD5M_aem_CP7AfVquUoQd3qGFtPEY0Q" rel="nofollow noreferrer" style="color: rgb(0\, 100\, 209)\; cursor: pointer\; text-decoration-line: none\; list-style: none\; margin: 0px\; border-style: none\; padding: 0px\; box-sizing: border-box\; border-width: 0px\; outline: none\; -webkit-tap-highlight-color: transparent\; font-weight: 600\; touch-action: manipulation\; display: inline\; font-family: &quot\;Segoe UI Historic&quot\;\, &quot\;Segoe UI&quot\;\, Helvetica\, Arial\, sans-serif\; font-size: 15px\;" tabindex="0" target="_blank">snapwa.org/ddd5k</a>
LOCATION:Manito Park
UID:e.253.29340
SEQUENCE:3
DTSTAMP:20260420T130731Z
URL:https://business.spokanevalleychamber.org/events/details/dad-s-day-dash-5k-29340
END:VEVENT

END:VCALENDAR
