BEGIN:VCALENDAR
VERSION:2.0
PRODID:-//ChamberMaster//Event Calendar 2.0//EN
METHOD:PUBLISH
X-PUBLISHED-TTL:P3D
REFRESH-INTERVAL:P3D
CALSCALE:GREGORIAN
BEGIN:VEVENT
DTSTART:20240516T140000Z
DTEND:20240516T160000Z
X-MICROSOFT-CDO-ALLDAYEVENT:FALSE
SUMMARY:Business Connections - Public Safety Awards
DESCRIPTION:REGISTRATION CLOSED\n\n\n\nThe 2nd Annual Public Safety Awards will be May 16 from 7 to 9 a.m. at CenterPlace Regional Event Center. \n\n \n\nWhy it matters: This event is a great opportunity to show appreciation to those who perform beyond the call of duty and are guided by the highest professional standards. \n\n \n\nHow it works: Each department will honor its outstanding police officers\, firefighters\, EMS personnel\, and courageous civilians.\n\n \n\nWhat's next: Along with the awards\, there will be a panel discussion\, "Fending Off The Drug Crisis\," featuring:\n\n\n	\n	Justin Johnson\, Director of Community Services at Spokane County Regional Behavioral Health\n	\n	\n	Vanessa R. Waldref\, United States Attorney for the Eastern District of Washington\n	\n	\n	Rep. Jacquelin Maycumber\, 7th District\n	\n	\n	Sheriff John Nowels\, Spokane County.\n	\n\n\n\n\nSave your spot today! Join us for this meaningful discussion and show your support for our local heroes.\n\n\n\n\n\nBreakfast Buffet Menu:\n\n- Scrambled Eggs - whipped from Farm Fresh Eggs\n\n- Applewood Smoked Bacon and Sausage (2 per person)\n\n- Breakfast Potatoes - Idaho potatoes with rosemary\n\n- Breakfast Breads & Fresh Pastries\n\n- Mini Buttermilk Biscuits\n\n- Jams and Butters\n\n- Roast House Coffee with Creamers\n\n- Orange Juice\n\n\n\nVegan Breakfast Buffet (upon request):\n\n- Vegan tofu + vegetable scramble \n\n- Vegan sausage (2 per person)\n\n- Idaho breakfast potatoes with rosemary
X-ALT-DESC;FMTTYPE=text/html:<p class="p1" color:="" helvetica="" style="margin: 0px\; font-variant-numeric: normal\; font-variant-east-asian: normal\; font-variant-alternates: normal\; font-kerning: auto\; font-optical-sizing: auto\; font-feature-settings: normal\; font-variation-settings: normal\; font-variant-position: normal\; font-stretch: normal\; line-height: normal\;"><span style="font-family:arial\;"><span style="font-size:14px\;"><strong><span style="color:#FF0000\;">REGISTRATION CLOSED</span></strong><br />\n<br />\nThe 2nd Annual Public Safety Awards will be May 16 from 7 to 9 a.m. at CenterPlace Regional Event Center.&nbsp\;</span></span></p>\n\n<p class="p2" color:="" helvetica="" min-height:="" style="margin: 0px\; font-variant-numeric: normal\; font-variant-east-asian: normal\; font-variant-alternates: normal\; font-kerning: auto\; font-optical-sizing: auto\; font-feature-settings: normal\; font-variation-settings: normal\; font-variant-position: normal\; font-stretch: normal\; line-height: normal\;">&nbsp\;</p>\n\n<p class="p1" color:="" helvetica="" style="margin: 0px\; font-variant-numeric: normal\; font-variant-east-asian: normal\; font-variant-alternates: normal\; font-kerning: auto\; font-optical-sizing: auto\; font-feature-settings: normal\; font-variation-settings: normal\; font-variant-position: normal\; font-stretch: normal\; line-height: normal\;"><span style="font-family:arial\;"><span style="font-size:14px\;"><strong>Why it matters:</strong> This event is a great opportunity to show appreciation to those who perform beyond the call of duty and are guided by the highest professional standards.&nbsp\;</span></span></p>\n\n<p class="p2" color:="" helvetica="" min-height:="" style="margin: 0px\; font-variant-numeric: normal\; font-variant-east-asian: normal\; font-variant-alternates: normal\; font-kerning: auto\; font-optical-sizing: auto\; font-feature-settings: normal\; font-variation-settings: normal\; font-variant-position: normal\; font-stretch: normal\; line-height: normal\;">&nbsp\;</p>\n\n<p class="p1" color:="" helvetica="" style="margin: 0px\; font-variant-numeric: normal\; font-variant-east-asian: normal\; font-variant-alternates: normal\; font-kerning: auto\; font-optical-sizing: auto\; font-feature-settings: normal\; font-variation-settings: normal\; font-variant-position: normal\; font-stretch: normal\; line-height: normal\;"><span style="font-family:arial\;"><span style="font-size:14px\;"><strong>How it works:</strong> Each department will honor its outstanding police officers\, firefighters\, EMS personnel\, and courageous civilians.</span></span></p>\n\n<p class="p2" color:="" helvetica="" min-height:="" style="margin: 0px\; font-variant-numeric: normal\; font-variant-east-asian: normal\; font-variant-alternates: normal\; font-kerning: auto\; font-optical-sizing: auto\; font-feature-settings: normal\; font-variation-settings: normal\; font-variant-position: normal\; font-stretch: normal\; line-height: normal\;">&nbsp\;</p>\n\n<p class="p1" color:="" helvetica="" style="margin: 0px\; font-variant-numeric: normal\; font-variant-east-asian: normal\; font-variant-alternates: normal\; font-kerning: auto\; font-optical-sizing: auto\; font-feature-settings: normal\; font-variation-settings: normal\; font-variant-position: normal\; font-stretch: normal\; line-height: normal\;"><span style="font-family:arial\;"><span style="font-size:14px\;"><strong>What&rsquo\;s next:</strong> Along with the awards\, there will be a panel discussion\, &ldquo\;Fending Off The Drug Crisis\,&quot\; featuring:</span></span></p>\n\n<ul>\n	<li class="li1" helvetica="" style="margin: 0px\; font-variant-numeric: normal\; font-variant-east-asian: normal\; font-variant-alternates: normal\; font-kerning: auto\; font-optical-sizing: auto\; font-feature-settings: normal\; font-variation-settings: normal\; font-variant-position: normal\; font-stretch: normal\; font-size: 13px\; line-height: normal\; font-family: ">\n	<p><span style="font-family:arial\;"><span style="font-size:14px\;">Justin Johnson\, Director of Community Services at Spokane County Regional Behavioral Health</span></span></p>\n	</li>\n	<li class="li1" helvetica="" style="margin: 0px\; font-variant-numeric: normal\; font-variant-east-asian: normal\; font-variant-alternates: normal\; font-kerning: auto\; font-optical-sizing: auto\; font-feature-settings: normal\; font-variation-settings: normal\; font-variant-position: normal\; font-stretch: normal\; font-size: 13px\; line-height: normal\; font-family: ">\n	<p><span style="font-family:arial\;"><span style="font-size:14px\;">Vanessa R. Waldref\, United States Attorney for the Eastern District of Washington</span></span></p>\n	</li>\n	<li class="li1" helvetica="" style="margin: 0px\; font-variant-numeric: normal\; font-variant-east-asian: normal\; font-variant-alternates: normal\; font-kerning: auto\; font-optical-sizing: auto\; font-feature-settings: normal\; font-variation-settings: normal\; font-variant-position: normal\; font-stretch: normal\; font-size: 13px\; line-height: normal\; font-family: ">\n	<p><span style="font-family:arial\;"><span style="font-size:14px\;">Rep. Jacquelin Maycumber\, 7th District</span></span></p>\n	</li>\n	<li class="li1" helvetica="" style="margin: 0px\; font-variant-numeric: normal\; font-variant-east-asian: normal\; font-variant-alternates: normal\; font-kerning: auto\; font-optical-sizing: auto\; font-feature-settings: normal\; font-variation-settings: normal\; font-variant-position: normal\; font-stretch: normal\; font-size: 13px\; line-height: normal\; font-family: ">\n	<p><span style="font-family:arial\;"><span style="font-size:14px\;">Sheriff John Nowels\, Spokane County.</span></span></p>\n	</li>\n</ul>\n\n<p class="p2" color:="" helvetica="" min-height:="" style="margin: 0px\; font-variant-numeric: normal\; font-variant-east-asian: normal\; font-variant-alternates: normal\; font-kerning: auto\; font-optical-sizing: auto\; font-feature-settings: normal\; font-variation-settings: normal\; font-variant-position: normal\; font-stretch: normal\; line-height: normal\;"><br />\n<span style="font-family:arial\;"><span style="font-size:14px\;">Save your spot today! Join us for this meaningful discussion and show your support for our local heroes.</span></span></p>\n\n<p class="p2" color:="" helvetica="" min-height:="" style="margin: 0px\; font-variant-numeric: normal\; font-variant-east-asian: normal\; font-variant-alternates: normal\; font-kerning: auto\; font-optical-sizing: auto\; font-feature-settings: normal\; font-variation-settings: normal\; font-stretch: normal\; line-height: normal\;"><br />\n<br />\n<span style="font-family:arial\;"><span style="font-size:14px\;">Breakfast Buffet Menu:<br />\n- Scrambled Eggs - whipped from Farm Fresh Eggs<br />\n- Applewood Smoked Bacon and Sausage (2 per person)<br />\n- Breakfast Potatoes - Idaho potatoes with rosemary<br />\n- Breakfast Breads &amp\; Fresh Pastries<br />\n- Mini Buttermilk Biscuits<br />\n- Jams and Butters<br />\n- Roast House Coffee with Creamers<br />\n- Orange Juice</span></span></p>\n\n<p class="p1" color:="" helvetica="" style="margin: 0px\; font-variant-numeric: normal\; font-variant-east-asian: normal\; font-variant-alternates: normal\; font-kerning: auto\; font-optical-sizing: auto\; font-feature-settings: normal\; font-variation-settings: normal\; font-stretch: normal\; line-height: normal\;"><br />\n<span style="font-family:arial\;"><span style="font-size:14px\;">Vegan Breakfast Buffet (upon request):<br />\n- Vegan tofu + vegetable scramble&nbsp\;<br />\n- Vegan sausage (2 per person)<br />\n- Idaho breakfast potatoes with rosemary</span></span><br />\n&nbsp\;</p>\n
LOCATION:CenterPlace Regional Event Center 2426 N Discovery PL Spokane Valley\, WA 99216
UID:e.253.26963
SEQUENCE:3
DTSTAMP:20260422T091548Z
URL:https://business.spokanevalleychamber.org/events/details/business-connections-public-safety-awards-26963
END:VEVENT

END:VCALENDAR
