BEGIN:VCALENDAR
VERSION:2.0
PRODID:-//ChamberMaster//Event Calendar 2.0//EN
METHOD:PUBLISH
X-PUBLISHED-TTL:P3D
REFRESH-INTERVAL:P3D
CALSCALE:GREGORIAN
BEGIN:VEVENT
DTSTART:20240222T153000Z
DTEND:20240223T050000Z
X-MICROSOFT-CDO-ALLDAYEVENT:FALSE
SUMMARY:Business Connections
DESCRIPTION:Join us for this Business Connections event on Thursday\, February 22nd from 7:30 a.m. - 9:00 a.m. at CenterPlace Regional Event Center.\n\n\n\nLearn about topics pertaining to our strategic priorities: Champion Business\, Development & Infrastructure\, Quality of Life & Community\, Workforce & Education\, and Healthcare.\n\n\n\nSpeaker: TBD
X-ALT-DESC;FMTTYPE=text/html:Join us for this Business Connections event on Thursday\, February 22nd from 7:30 a.m. - 9:00 a.m. at CenterPlace Regional Event Center.<br />\n<br />\nLearn about topics pertaining to our strategic priorities: Champion Business\, Development &amp\; Infrastructure\, Quality of Life &amp\; Community\, Workforce &amp\; Education\, and Healthcare.<br />\n<br />\nSpeaker: TBD
LOCATION:CenterPlace Regional Event Center 2426 N Discovery PL Spokane Valley\, WA 99216
UID:e.253.25365
SEQUENCE:3
DTSTAMP:20260422T085947Z
URL:https://business.spokanevalleychamber.org/events/details/business-connections-02-22-2024-25365
END:VEVENT

END:VCALENDAR
