BEGIN:VCALENDAR
VERSION:2.0
PRODID:-//ChamberMaster//Event Calendar 2.0//EN
METHOD:PUBLISH
X-PUBLISHED-TTL:P3D
REFRESH-INTERVAL:P3D
CALSCALE:GREGORIAN
BEGIN:VEVENT
DTSTART:20250122T220000Z
DTEND:20250123T000000Z
X-MICROSOFT-CDO-ALLDAYEVENT:FALSE
SUMMARY:Argonne Library Book Club
DESCRIPTION:This book club is led by volunteers and meets monthly. New members are welcome to join at any time. Please call the library at 509.893.8260 for this month's title selection.
X-ALT-DESC;FMTTYPE=text/html:<span style="font-family:arial\,helvetica\,verdana\; font-size:14px">This book club is led by volunteers and meets monthly. New members are welcome to join at any time. Please call the library at 509.893.8260&nbsp\;for this month&rsquo\;s title selection.&nbsp\;</span>
LOCATION:Argonne Library. 4322 N Argonne Rd.
UID:e.253.28511
SEQUENCE:3
DTSTAMP:20260421T021531Z
URL:https://business.spokanevalleychamber.org/events/details/argonne-library-book-club-01-22-2025-28511
END:VEVENT

END:VCALENDAR
