BEGIN:VCALENDAR
VERSION:2.0
PRODID:-//ChamberMaster//Event Calendar 2.0//EN
METHOD:PUBLISH
X-PUBLISHED-TTL:P3D
REFRESH-INTERVAL:P3D
CALSCALE:GREGORIAN
BEGIN:VEVENT
DTSTART:20260422T233000Z
DTEND:20260423T010000Z
X-MICROSOFT-CDO-ALLDAYEVENT:FALSE
SUMMARY:After 5 Networking - SCC
DESCRIPTION:Join us at Spokane Community College (SCC) for an exciting evening of networking and learning! Mix and mingle with fellow Valley Chamber members and the faculty\, staff and students of SCC's technical education\, apprenticeship and healthcare programs. Learn about the new Trades High School\, too!\n\n\n\nEnjoy appetizers and beverages (Trailbreaker Cider will be served!) as you explore a wide variety of workforce programs including Apprenticeships\, Biomedical Equipment Technology\, Medical Assistant\, Nursing\, Radiology Technology\, Architecture Technology\, CNC Technology/Machining\, Electrical Maintenance and Automation\, Electronics Technology\, Engineering Design Technology\, HVAC\, Robotics and Mechatronics Technology\, and Welding and Fabrication.\n\n\n\nHosted in SCC's Building #28\, doors open at 4:30pm. Free parking in lot P28.
X-ALT-DESC;FMTTYPE=text/html:<div font-size:="" new="" style="color: rgb(0\, 0\, 0)\;" times="">Join us at Spokane Community College (SCC)&nbsp\;for an exciting evening of networking and learning! Mix and mingle with fellow Valley Chamber members and the faculty\, staff and students of SCC&rsquo\;s technical education\, apprenticeship and healthcare programs. Learn about the new Trades High School\, too!</div>\n\n<div font-size:="" new="" style="color: rgb(0\, 0\, 0)\;" times=""><br />\nEnjoy appetizers and beverages (Trailbreaker Cider will be served!) as you explore a wide variety of workforce programs including Apprenticeships\, Biomedical Equipment Technology\, Medical Assistant\, Nursing\, Radiology Technology\, Architecture Technology\, CNC Technology/Machining\, Electrical Maintenance and Automation\, Electronics Technology\, Engineering Design Technology\, HVAC\, Robotics and Mechatronics Technology\, and Welding and Fabrication.</div>\n\n<div font-size:="" new="" style="color: rgb(0\, 0\, 0)\;" times=""><br />\nHosted in SCC&rsquo\;s Building #28\, doors open at 4:30pm. Free parking in lot P28.</div>\n
LOCATION:1810 N Greene St Spokane\, WA 99217 Building 28 Use parking lot 28 View Map
UID:e.253.29757
SEQUENCE:3
DTSTAMP:20260420T112717Z
URL:https://business.spokanevalleychamber.org/events/details/after-5-networking-scc-29757
END:VEVENT

END:VCALENDAR
