BEGIN:VCALENDAR
VERSION:2.0
PRODID:-//ChamberMaster//Event Calendar 2.0//EN
METHOD:PUBLISH
X-PUBLISHED-TTL:P3D
REFRESH-INTERVAL:P3D
CALSCALE:GREGORIAN
BEGIN:VEVENT
DTSTART:20210630T233000Z
DTEND:20210701T010000Z
X-MICROSOFT-CDO-ALLDAYEVENT:FALSE
SUMMARY:After 5 Networking - Coeur d'Alene Casino Resort Hotel
DESCRIPTION:Join us for After 5 Networking at Coeur d'Alene Casino Resort Hotel! \n\nNetwork outside on the Chinook Meadow while enjoying some delicious appetizers. Everyone will receive one complimentary drink ticket per person for beer or wine. There will also be a no host bar for additional beverages. Everyone will also receive a voucher for $10 in play cash. \n\n\n\nThere will be two shuttles to and from the Chamber Office. \n\n- Depart from the Valley Chamber office at 4:00 p.m.\n\n- Depart from Coeur d'Alene Casino at 7:00 p.m. and again at 8:00 p.m.\n\n\n\nFree to attend for members only. Registration is required to attend. Space is limited. \n\n\n\nThank you to our After 5 Sponsor: Coeur d'Alene Casino Resort Hotel.
X-ALT-DESC;FMTTYPE=text/html:<span style="font-size:14px\;">Join us for After 5 Networking at Coeur d&#39\;Alene Casino Resort Hotel!&nbsp\;<br />\nNetwork outside on the Chinook Meadow while enjoying some delicious appetizers. Everyone will receive one complimentary drink ticket per person for beer or wine. There will also be a no host bar for additional beverages.&nbsp\;Everyone will also receive a voucher for $10 in play cash.&nbsp\;<br />\n<br />\nThere will be two shuttles to and from the Chamber Office.&nbsp\;<br />\n- Depart from the Valley Chamber office at 4:00 p.m.<br />\n- Depart from Coeur d&#39\;Alene Casino at 7:00 p.m. and again at 8:00 p.m.</span><br />\n<br />\n<span style="font-size:14px\;">Free to attend for members only. Registration is required to attend. Space is limited.&nbsp\;<br />\n<br />\nThank you to our After 5 Sponsor: Coeur d&#39\;Alene Casino Resort Hotel.</span>
LOCATION:Coeur d'Alene Casino Resort Hotel 37914 S Nukwalqw St. Worley\, ID 83876
UID:e.253.18721
SEQUENCE:3
DTSTAMP:20260419T125650Z
URL:https://business.spokanevalleychamber.org/events/details/after-5-networking-coeur-d-alene-casino-resort-hotel-18721
END:VEVENT

END:VCALENDAR
