BEGIN:VCALENDAR
VERSION:2.0
PRODID:-//ChamberMaster//Event Calendar 2.0//EN
METHOD:PUBLISH
X-PUBLISHED-TTL:P3D
REFRESH-INTERVAL:P3D
CALSCALE:GREGORIAN
BEGIN:VEVENT
DTSTART:20210428T233000Z
DTEND:20210429T010000Z
X-MICROSOFT-CDO-ALLDAYEVENT:FALSE
SUMMARY:After 5 Networking
DESCRIPTION:Join us for After 5 Networking at Arbor Crest Wine Cellars! \n\n\n\nCelebrate that Spring is in bloom at Arbor Crest! Cheers with a bold red or refreshing white and don't forget to grab some light fare to munch on. Come support a local business and enjoy networking under the tent while listening to some live music from Cover2Cover.\n\n\n\nFree to attend. Please register in advance. Space is limited. \n\n\n\nThank you to our Table Sponsors: Cutco Cutlery - Blades by Tara\, and Sculptured Gardens.\n\n\n\nThank you to our After 5 Sponsor: Arbor Crest Wine Cellars.
X-ALT-DESC;FMTTYPE=text/html:<span style="font-size:14px\;">Join us for After 5 Networking at Arbor Crest Wine Cellars!&nbsp\;<br />\n<br />\n<span style="caret-color: rgb(0\, 0\, 0)\; text-size-adjust: auto\;">Celebrate that Spring is in bloom at Arbor Crest! Cheers with a bold red or refreshing white and don&#39\;t forget to grab some light fare to munch on. Come s</span>upport a local business and enjoy networking under the tent&nbsp\;</span><span style="font-size: 14px\; caret-color: rgb(0\, 0\, 0)\;">while listening to some live music from Cover2Cover.</span><br />\n<br />\n<span style="font-size:14px\;">Free to attend. Please register in advance. Space is limited.&nbsp\;<br />\n<br />\nThank you to our Table Sponsors: Cutco Cutlery - Blades by Tara\, and Sculptured Gardens.<br />\n<br />\nThank you to our After 5 Sponsor: Arbor Crest Wine Cellars.</span>
LOCATION:Arbor Crest Wine Cellars 4705 N Fruit Hill Rd\, Spokane\, WA 99217
UID:e.253.18673
SEQUENCE:3
DTSTAMP:20260423T130807Z
URL:https://business.spokanevalleychamber.org/events/details/after-5-networking-18673
END:VEVENT

END:VCALENDAR
