BEGIN:VCALENDAR
VERSION:2.0
PRODID:-//ChamberMaster//Event Calendar 2.0//EN
METHOD:PUBLISH
X-PUBLISHED-TTL:P3D
REFRESH-INTERVAL:P3D
CALSCALE:GREGORIAN
BEGIN:VEVENT
DTSTART:20250324T170000Z
DTEND:20250324T190000Z
X-MICROSOFT-CDO-ALLDAYEVENT:FALSE
SUMMARY:A Matter of Balance: Preventing Falls
DESCRIPTION:Registration is required. To register\, call ALTCEW educator Philip Helean at 509.777.1571.\n\nThis series of sessions is designed for older adults who are concerned about falling. Learn the strategies you need to set realistic goals for increasing activity and to identify environmental adjustments to reduce risk factors. Discover how gentle movement can increase flexibility\, strength\, and balance and how a shift in viewpoint can make falls more controllable. Small groups meet for eight (8) sessions of group discussion\, problem-solving\, brainstorming\, and gentle exercises. Each participant receives a workbook.\n\nPresented by ALTCEW
X-ALT-DESC;FMTTYPE=text/html:<p>Registration is required. To register\, call ALTCEW educator Philip Helean at 509.777.1571.</p>\n\n<p>This series of sessions is designed for older adults who are concerned about falling. Learn the strategies you need to set realistic goals for increasing activity and to identify environmental adjustments to reduce risk factors. Discover how gentle movement can increase flexibility\, strength\, and balance and how a shift in viewpoint can make falls more controllable. Small groups meet for eight (8) sessions of group discussion\, problem-solving\, brainstorming\, and gentle exercises. Each participant receives a workbook.</p>\n\n<p>Presented by ALTCEW</p>\n
LOCATION:Spokane Valley Library. 22 N Herald Rd.
UID:e.253.28986
SEQUENCE:3
DTSTAMP:20260421T115647Z
URL:https://business.spokanevalleychamber.org/events/details/a-matter-of-balance-preventing-falls-03-24-2025-28986
END:VEVENT

END:VCALENDAR
