BEGIN:VCALENDAR
VERSION:2.0
PRODID:-//ChamberMaster//Event Calendar 2.0//EN
METHOD:PUBLISH
X-PUBLISHED-TTL:P3D
REFRESH-INTERVAL:P3D
CALSCALE:GREGORIAN
BEGIN:VEVENT
DTSTART:20260502T190000Z
DTEND:20260502T220000Z
X-MICROSOFT-CDO-ALLDAYEVENT:FALSE
SUMMARY:3rd Annual Customer Appreciation Day - Uncle Sam's Flag & Gift
DESCRIPTION:We are celebrating the wonderful patrons of Uncle Sam's Flag & Gift for the 3rd year in a row! Join us for FREE hot dogs and chips (while supplies last!)\, check out the Spokane Motor Pool military vehicles and other sweet rides\, and many other surprises! Starting with the National Anthem and raising of a new US flag at noon.  \n\n\n\nGuest parking behind Miller Paint\, and along Bolivar and Bannen Roads. All remaining spots will be for the show cars and bikes.\n\nIf showing your car\, bike or other vehicle\, please arrive before 11am. Vehicles are not required to remain the entire day\, and late arrivals will be accepted as space allows.
X-ALT-DESC;FMTTYPE=text/html:<p><span style="color:rgb(8\, 8\, 9)\; font-family:segoe ui historic\,segoe ui\,helvetica\,arial\,sans-serif\; font-size:15px">We are celebrating the wonderful patrons of Uncle Sam&#39\;s Flag &amp\; Gift for the 3rd year in a row! Join us for <strong>FREE</strong> hot dogs and chips (while supplies last!)\, check out the Spokane Motor Pool military vehicles and other sweet rides\, and many other surprises! Starting with the National Anthem and raising of a new US flag at noon.&nbsp\;&nbsp\;<br />\n<br />\nGuest parking behind Miller Paint\, and along Bolivar and Bannen Roads. All remaining spots will be for the show cars and bikes.</span></p>\n\n<p><span style="color:rgb(8\, 8\, 9)\; font-family:segoe ui historic\,segoe ui\,helvetica\,arial\,sans-serif\; font-size:15px">If showing your car\, bike or other vehicle\, please arrive before 11am. Vehicles are not required to remain the entire day\, and late arrivals will be accepted as space allows.</span><br />\n<br />\n<span style="color:rgb(8\, 8\, 9)\; font-family:segoe ui historic\,segoe ui\,helvetica\,arial\,sans-serif\; font-size:15px">&nbsp\;</span></p>\n
LOCATION:Uncle Sam's Flag & Gift - 14109 E Sprague Ave Ste 1\, Spokane Valley WA 99216
UID:e.253.30086
SEQUENCE:3
DTSTAMP:20260420T100222Z
URL:https://business.spokanevalleychamber.org/events/details/3rd-annual-customer-appreciation-day-uncle-sam-s-flag-gift-30086
END:VEVENT

END:VCALENDAR
