BEGIN:VCALENDAR
VERSION:2.0
PRODID:-//ChamberMaster//Event Calendar 2.0//EN
METHOD:PUBLISH
X-PUBLISHED-TTL:P3D
REFRESH-INTERVAL:P3D
CALSCALE:GREGORIAN
BEGIN:VEVENT
DTSTART:20220804T200000Z
DTEND:20220805T010000Z
X-MICROSOFT-CDO-ALLDAYEVENT:FALSE
SUMMARY:26th Annual Golf Tournament - Mulligan Cards & Raffle Tickets
DESCRIPTION:Mulligans & Raffle Tickets\n\n- Package deal: $60 for 2 Mulligans and 30 Raffle Tickets\n\n- Mulligans: $10 each (limit two per player)\n\n- Raffle Tickets: $20 for 12 tickets or $2 each\n\n\n\nBy purchasing in advance\, your tickets wil bel labeled with with your contact information in advance saving you time at the door and allowing you more time to network. Your tickets are required to have your first and last name on them in order to be eligible to win.\n\n\n\n*Click "Register" to proceed with purchase.
X-ALT-DESC;FMTTYPE=text/html:<span style="font-size:14px\;"><span style="font-size:16px\;"><strong><span style="color: rgb(51\, 51\, 51)\; background-color: rgb(255\, 255\, 255)\;">Mulligans &amp\; Raffle Tickets</span></strong></span><br style="color: rgb(51\, 51\, 51)\; font-family: sans-serif\, Arial\, Verdana\, &quot\;Trebuchet MS&quot\;\; font-size: 13px\;" />\n<span style="color: rgb(51\, 51\, 51)\; background-color: rgb(255\, 255\, 255)\;">- Package deal: $60 for 2 Mulligans and 30 Raffle Tickets</span><br style="color: rgb(51\, 51\, 51)\; font-family: sans-serif\, Arial\, Verdana\, &quot\;Trebuchet MS&quot\;\; font-size: 13px\;" />\n<span style="color: rgb(51\, 51\, 51)\; background-color: rgb(255\, 255\, 255)\;">- Mulligans: $10 each (limit two per player)</span><br style="color: rgb(51\, 51\, 51)\; font-family: sans-serif\, Arial\, Verdana\, &quot\;Trebuchet MS&quot\;\; font-size: 13px\;" />\n<span style="color: rgb(51\, 51\, 51)\; background-color: rgb(255\, 255\, 255)\;">- Raffle Tickets: $20 for 12 tickets or $2 each</span></span><br />\n<br />\n<span style="font-size: 20px\;"><span style="font-size: 14px\;">By purchasing in advance\, your tickets wil be</span></span><span style="font-size: 14px\;">l</span><span style="font-size: 20px\;"><span style="font-size: 14px\;">&nbsp\;labeled with with your contact information in advance saving you time at the door and allowing you more time to network. Your tickets are required to have your first and last name on them in order to be eligible to win.</span></span><br />\n<br />\n<strong><span style="color: rgb(255\, 0\, 0)\;"><em>*Click &quot\;Register&quot\; to proceed with purchase.</em></span></strong>
LOCATION:
UID:e.253.20395
SEQUENCE:3
DTSTAMP:20260419T175303Z
URL:https://business.spokanevalleychamber.org/events/details/26th-annual-golf-tournament-mulligan-cards-raffle-tickets-20395
END:VEVENT

END:VCALENDAR
