BEGIN:VCALENDAR
VERSION:2.0
PRODID:-//ChamberMaster//Event Calendar 2.0//EN
METHOD:PUBLISH
X-PUBLISHED-TTL:P3D
REFRESH-INTERVAL:P3D
CALSCALE:GREGORIAN
BEGIN:VEVENT
DTSTART:20220423T003000Z
DTEND:20220423T033000Z
X-MICROSOFT-CDO-ALLDAYEVENT:FALSE
SUMMARY:2022 Valley Chamber Business Awards
DESCRIPTION:Raffle tickets can be purchased in advance   View the full prize list in advance and plan your winning strategy\, all while saving time at the door by allowing us to prefill your name* on advanced raffle ticket purchases.\n\n\n\nClick Here.\n\n*All tickets are required to have a first and last name printed on them to be valid.\n\n\n\nThe Greater Spokane Valley Chamber of Commerce Business Awards is the evolution of our historic annual Gem of the Valley Awards Gala. The ceremony will showcase outstanding achievements made by Chamber members in 2021. The award categories will recognize organizations (businesses & nonprofits) that excel in business innovation\, create inspiring workplaces and lead through community stewardship. We will honor two organizations from each category\, one large (26 or more employees) and one small (25 or fewer employees). A total of six awards will be presented. We will also be awarding the Educators of the Year\, Legacy of Leadership\, and Citizen of the Year awardees to recognize these individuals for their contributions to their place of business and the community at large.\n\n\n\nNominations are now closed. Thank you to everyone who submitted. \n\n\n\nImportant Dates: \n\n\n	Nominations are accepted through March 31st at 5:00 p.m.\n	Award recipients will be announced starting April 13th\n	We will celebrate and recognize our awardees at Mirabeau Park Hotel on April 22nd\n	Event registration cutoff is April 15th (Event may sellout in advance and we recommend registering early)\n\n\n\n\nRegistration is now closed.  \n\n\n\nDinner Menu:\n\nRosemary roasted chicken breast with pan jus\, served with lemon garlic prawns*\, yukon gold mashed potatoes. roasted red pepper coulis and pesto oil. \n\n*Sub pan roasted salmon upon request\n\nCougar Gold salad: Cougar Gold cheese\, baby spinach mixed with dragee\, walnuts\, grape tomatoes and roasted yellow beets\, tossed in honey lavender vinaigrette and finished with balsamic reduction. \n\nCarmel apple torte served with caramel sauce.
X-ALT-DESC;FMTTYPE=text/html:<p><span style="font-size:14px\;"><a href="https://spokanevalleychamber.org/uncategorized/2022-business-awards-raffle-prizes/"><strong><em>Raffle tickets can be purchased in advance </em></strong></a></span><span style="font-family:calibri\,sans-serif\;"><span style="font-size:11.0pt\;">&ndash\;</span></span><span style="font-size:14px\;"><a href="https://spokanevalleychamber.org/uncategorized/2022-business-awards-raffle-prizes/"><strong><em> View the full prize list in advance and plan your winning strategy\, all while saving time at the door by allowing us to prefill your name* on advanced raffle ticket purchases.</em><br />\n<br />\n<span style="color:#FF0000\;"><em>Click Here.<br />\n<span style="font-size:10px\;">*All tickets are required to have a first and last name printed on them to be valid.</span></em></span></strong></a><br />\n<br />\n<span style="text-align: center\; white-space: pre-wrap\;">The Greater Spokane Valley Chamber of Commerce Business Awards is the evolution of our historic annual Gem of the Valley Awards Gala. The ceremony will showcase outstanding achievements made by Chamber members in 2021. The award categories will recognize organizations (businesses &amp\; nonprofits) that excel in business&nbsp\;innovation\, create&nbsp\;inspiring workplaces&nbsp\;and lead through&nbsp\;community stewardship. We will honor two organizations from each category\, one large (26 or more employees) and one small (25 or fewer employees). A total of six awards will be presented. We will also be awarding the Educators of the Year\, Legacy of Leadership\, and Citizen of the Year awardees to recognize these individuals for their contributions to their place of business and the community at large.</span><br />\n<br />\nNominations are now closed. Thank you to everyone who submitted.&nbsp\;</span><br />\n<br />\n<span style="font-size: 14px\;">Important Dates:&nbsp\;</span></p>\n\n<ul>\n	<li><span style="font-size:14px\;">Nominations are accepted through March 31st at 5:00 p.m.</span></li>\n	<li><span style="font-size:14px\;">Award recipients will be announced starting April 13th</span></li>\n	<li><span style="font-size:14px\;">We will celebrate and recognize our awardees at Mirabeau Park Hotel on April 22nd</span></li>\n	<li><span style="font-size:14px\;">Event&nbsp\;registration cutoff is April 15th (Event may sellout in advance and we recommend registering early)</span></li>\n</ul>\n\n<p><br />\n<span style="font-size:14px\;">Registration is now closed.&nbsp\; </span><br />\n<br />\n<span style="font-size:14px\;">Dinner Menu:<br />\nRosemary roasted chicken breast with pan jus\, served with lemon garlic prawns*\, yukon gold mashed potatoes. roasted red pepper coulis and pesto oil.&nbsp\;<br />\n*Sub pan roasted salmon upon request<br />\nCougar Gold salad: Cougar Gold cheese\, baby spinach mixed with dragee\, walnuts\, grape tomatoes and&nbsp\;roasted yellow beets\, tossed in honey lavender vinaigrette and finished with balsamic reduction.&nbsp\;<br />\nCarmel apple torte served with caramel sauce.</span></p>\n
LOCATION:Mirabeau Park Hotel & Convention Center 1100 N Sullivan
UID:e.253.18844
SEQUENCE:3
DTSTAMP:20260421T065110Z
URL:https://business.spokanevalleychamber.org/events/details/2022-valley-chamber-business-awards-18844
END:VEVENT

END:VCALENDAR
