BEGIN:VCALENDAR
VERSION:2.0
PRODID:-//ChamberMaster//Event Calendar 2.0//EN
METHOD:PUBLISH
X-PUBLISHED-TTL:P3D
REFRESH-INTERVAL:P3D
CALSCALE:GREGORIAN
BEGIN:VEVENT
DTSTART:20220727T183000Z
DTEND:20220727T200000Z
X-MICROSOFT-CDO-ALLDAYEVENT:FALSE
SUMMARY:2022 State of the City Spokane Valley
DESCRIPTION:SOLD OUT!\n\n2022 State of the City - Spokane Valley \nFind out how the city is working together with its partners to create a unique and growing community. One where opportunity comes in new and different ways and how they're moving intentionally towards a bright future for residents and businesses. \n\nLunch will be provided.\n\n$35 per person. $400 for a table of 8. Please register in advance. Space is limited.
X-ALT-DESC;FMTTYPE=text/html:<span style="font-size:14px\;"><span style="font-family:arial\;"><strong>SOLD OUT!<br />\n2022 State of the City - Spokane Valley</strong><span style="white-space: pre-wrap\;">&nbsp\;</span></span></span>\n<div style="color: rgb(118\, 118\, 118)\; font-family: Garamond\, &quot\;Times New Roman&quot\;\, Times\, serif\; font-size: 16px\; white-space: pre-wrap\;"><span style="color:#000000\;"><span style="font-size:14px\;"><span style="font-family:arial\;"><span style="text-align: center\; white-space: pre-wrap\;">Find out how the city is working together with its partners to create a unique and growing community. One where opportunity comes in new and different ways and how they&#39\;re moving intentionally towards a bright future for residents and businesses. </span><br />\nLunch will be provided.<br />\n$35 per person. $400 for a table of 8. Please register in advance. Space is limited.</span></span></span></div>\n
LOCATION:CenterPlace Regional Event Center 2426 N Discovery Pl Spokane Valley\, WA 99216
UID:e.253.18863
SEQUENCE:3
DTSTAMP:20260423T030345Z
URL:https://business.spokanevalleychamber.org/events/details/2022-state-of-the-city-spokane-valley-18863
END:VEVENT

END:VCALENDAR
